BEGIN:VCALENDAR
VERSION:2.0
PRODID:DPCALENDAR
CALSCALE:GREGORIAN
X-WR-TIMEZONE:UTC
BEGIN:VEVENT
DTSTART;TZID=UTC:20250517T093000
DTEND;TZID=UTC:20250517T120000
UID:02B7F46E-8214-4B03-9771-C8C60F383CC7
SUMMARY:Spatenstichfeier Haslach Galerie
CREATED:20250515T090533Z
DTSTAMP:20250515T090533Z
URL:https://www.kals.at/buergerservice/kalender/spatenstichfeier-haslach-galerie.html
LAST-MODIFIED:20250515T090533Z
SEQUENCE:0
X-ACCESS:1
X-HITS:541
X-COLOR:796234
X-SHOW-END-TIME:1
END:VEVENT
END:VCALENDAR