BEGIN:VCALENDAR
VERSION:2.0
PRODID:DPCALENDAR
CALSCALE:GREGORIAN
X-WR-TIMEZONE:UTC
BEGIN:VEVENT
DTSTART;TZID=UTC:20250926T100000
DTEND;TZID=UTC:20250926T110000
UID:D8CFBFBA-DB13-41C5-A250-44BBACB48D87
SUMMARY:Ablageplatz Lana von 10 bis 11 Uhr geöffnet 
CREATED:20250923T092724Z
DTSTAMP:20250923T092724Z
URL:https://www.kals.at/buergerservice/kalender/ablageplatz-lana-von-10-bis-11-uhr-geoeffnet.html
LAST-MODIFIED:20250923T092724Z
SEQUENCE:0
X-ACCESS:1
X-HITS:235
X-COLOR:796234
X-SHOW-END-TIME:1
END:VEVENT
END:VCALENDAR